BEGIN:VCALENDAR
VERSION:2.0
PRODID:-//Plone.org//NONSGML plone.app.event//EN
X-WR-TIMEZONE:US/Central
BEGIN:VEVENT
SUMMARY:AI Basics: What You Need To Know
DTSTART;TZID=US/Central:20260429T170000
DTEND;TZID=US/Central:20260429T180000
DTSTAMP:20260424T105439Z
UID:fc1f6201b1d642fdb06dc2394a2b6ed2@saas_stack_varnish:6080
CREATED:20260421T220018Z
DESCRIPTION:Learn the basics of artificial intellegence (AI) \, its common
  uses\, what you should know about AI-generated content online\, and how t
 o protect yourself from misinformation. This program will end with a Q&A p
 ortion for all of your questions!\nRegistration is NOT required! \nApril 2
 9th from 5-6PM.
LAST-MODIFIED:20260421T220026Z
URL:https://www.dspl.missouri.org/calendar-news/events/ai-basics-what-you-
 need-to-know
END:VEVENT
BEGIN:VTIMEZONE
TZID:US/Central
X-LIC-LOCATION:US/Central
BEGIN:DAYLIGHT
DTSTART:20260308T030000
TZNAME:CDT
TZOFFSETFROM:-0600
TZOFFSETTO:-0500
END:DAYLIGHT
END:VTIMEZONE
END:VCALENDAR
